Workbook

Sheet 1. Założenia
B4: UWAGA! Wnioskodawca wypełnia wyłącznie pola zaznaczone na żółto. Zakładki powinny być wypełniane kolejno, tj. dopiero po uzupełnieniu wszystkich żółtych pól w zakładce 1. przechodzimy do zakładki 2. itd.
B6: Założenia | C6: Wartość
B7: Stopa dyskontowa analizy finansowej | D7: 0.04
B8: Stawka podatku VAT | D8: 0.23
B9: Stawka podatku VAT | D9: zw./ nie dotyczy
B10: Czy podatek VAT jest kwalifikowany (na potrzeby określenia sposobu analizy)
B11: Poziom dofinansowania k. kwalifikowanych dla naboru | D11: 0.8463
B12: Limity:
B13: Cross-financing - wartość wydatków planowanych we wniosku o dofinansowanie projektu w ramach cross-financingu co do zasady nie może stanowić więcej niż 10% planowanych wydatków kwalifikowalnych projektu | D13: 0.1
B14: Informacja i promocja - wydatki na informację i promocję nie mogą przekraczać 15% wydatków kwalifikowalnych projektu | D14: 0.15
B15: Wybór sposobu rozliczenia kosztów pośrednich: 1.) Koszty pośrednie - RYCZAŁT do 15% bezpośrednich kwalifikowanych kosztów wykazanych w kategorii Wynagrodzenia pracowników wykonujących merytoryczne zadania bezpośrednio związane z głównymi celami i produktami projektu; 2.) W przypadku projektów, w których co najmniej 50% wydatków bezpośrednich (zgodnie z szacunkiem beneficjenta wynikającym ze złożonego do oceny wniosku o dofinasowanie) ponoszone jest w drodze zastosowania Pzp, koszty pośrednie mogą być rozliczane na podstawie rzeczywiście poniesionych wydatków (tj. z pełnym udokumentowaniem wydatków)
B16: Jednocześnie koszty pośrednie rozliczane są w wysokości nie przekraczającej 10% całkowitych wydatków kwalifikowalnych projektu | D16: 0.1
B17: Analiza prowadzona w cenach stałych
B18: Metoda analizy:
B19: Analiza prowadzona w cenach: | C19: =IF(D10="TAK","brutto","netto") -> netto
B21: Założenia do Projektu (przykładowe) | C21: Jednostka | D21: Wartość | E21: Rok 1 (bazowy) | F21: Rok 2 | G21: Rok 3 | H21: Rok 4 | I21: Rok 5 | J21: Rok 6 | K21: Rok 7 | L21: Rok 8 | M21: Rok 9 | N21: Rok 10
F22: =E22+1 -> 1 | G22: =F22+1 -> 2 | H22: =G22+1 -> 3 | I22: =H22+1 -> 4 | J22: =I22+1 -> 5 | K22: =J22+1 -> 6 | L22: =K22+1 -> 7 | M22: =L22+1 -> 8 | N22: =M22+1 -> 9
B23: Liczba lat analizy | C23: lat | D23: 10

Sheet 2. Nakłady
B1: =IF(E162>(ROUNDDOWN('1. Założenia'!D14*O162,2)),"Koszty promocji przekraczają 15% kosztów kwalifikowanych!!! Obniż koszty promocji.","Koszty promocji spełniają warunek max. 15%") -> Koszty promocji spełniają warunek max. 15% | E1: Nakłady na realizację projektu (budżet projektu)
B2: =IF(F162>(ROUNDDOWN('1. Założenia'!D16*O162,2)),"Koszty pośrednie przekraczają 10% kosztów kwalifikowanych!!! Obniż koszty pośrednie.","Koszty pośrednie spełniają warunek max. 10%") -> Koszty pośrednie spełniają warunek max. 10% | T2: Terminy ponoszenia wydatków
B3: =IF(AND('1. Założenia'!D15='Listy wyboru'!A3,'2. Nakłady'!F162>0.15*'2. Nakłady'!F164),"Wybrano RYCZAŁT 15%, a koszty pośrednie przekraczają 15% kosztów wynagrodzeń!!!"," ") | U3: =IF(U6>2023, "Nie możesz ponosić wydatków po 31.12.2023"," ") | V3: =IF(V6>2023, "Nie możesz ponosić wydatków po 31.12.2023"," ") | W3: =IF(W6>2023, "Nie możesz ponosić wydatków po 31.12.2023"," ")
B4: =IF(F165>(ROUNDDOWN('1. Założenia'!D13*O162,2)),"Koszty cross-financingu przekraczają 10% kosztów kwalifikowanych!!! Obniż koszty cross-financingu.","Koszty cross-financingu spełniają warunek max. 10%") -> Koszty cross-financingu spełniają warunek max. 10%
B6: l.p. | C6: nazwa zadania | D6: nazwa wydatku | E6: kategoria i podkategoria | F6: czy wydatek stanowi cross-finacing | G6: wartość jednostkowa netto | H6: stawka podatku VAT | I6: wartość podatku VAT | J6: ilość | K6: wartość całkowita netto | L6: wartość całkowita VAT | M6: wartość całkowita brutto | O6: w tym wydatek/ koszt kwalifikowany | P6: sposób kalkulacji kosztu i uzasadenienie | Q6: w tym wydatek/ koszt niekwalifikowany | S6: podział kosztów | T6: ='1. Założenia'!E22 -> 0 | U6: ='1. Założenia'!F22 -> 1 | V6: ='1. Założenia'!G22 -> 2 | W6: ='1. Założenia'!H22 -> 3 | X6: SUMA | Z6: kontrola
B8: 1 | I8: =IF(H8="zw./ nie dotyczy",0,ROUND(G8*H8,2)) -> 0 | K8: =ROUND(G8*J8,2) -> 0 | L8: =ROUND(I8*J8,2) -> 0 | M8: =K8+L8 -> 0 | O8: =M8 -> 0 | Q8: =M8-O8 -> 0 | S8: kwalifikowane netto | X8: =SUM(T8:W8) -> 0 | Z8: =IF(O8=(X8+X9),"OK","ŹLE") -> OK
S9: kwalifikowane VAT | X9: =SUM(T9:W9) -> 0
S10: niekwalifikowane netto | X10: =SUM(T10:W10) -> 0 | Z10: =IF(Q8=(X10+X11),"OK","ŹLE") -> OK
S11: niekwalifikowane VAT | X11: =SUM(T11:W11) -> 0
S12: SUMA | T12: =SUM(T8:T11) -> 0 | U12: =SUM(U8:U11) -> 0 | V12: =SUM(V8:V11) -> 0 | W12: =SUM(W8:W11) -> 0 | X12: =SUM(X8:X11) -> 0
B13: =B8+1 -> 2 | I13: =IF(H13="zw./ nie dotyczy",0,ROUND(G13*H13,2)) -> 0 | K13: =ROUND(G13*J13,2) -> 0 | L13: =ROUND(I13*J13,2) -> 0 | M13: =K13+L13 -> 0 | O13: =M13 -> 0 | Q13: =M13-O13 -> 0 | S13: kwalifikowane netto | X13: =SUM(T13:W13) -> 0 | Z13: =IF(O13=(X13+X14),"OK","ŹLE") -> OK
S14: kwalifikowane VAT | X14: =SUM(T14:W14) -> 0
S15: niekwalifikowane netto | X15: =SUM(T15:W15) -> 0 | Z15: =IF(Q13=(X15+X16),"OK","ŹLE") -> OK
S16: niekwalifikowane VAT | X16: =SUM(T16:W16) -> 0
S17: SUMA | T17: =SUM(T13:T16) -> 0 | U17: =SUM(U13:U16) -> 0 | V17: =SUM(V13:V16) -> 0 | W17: =SUM(W13:W16) -> 0 | X17: =SUM(X13:X16) -> 0
B18: =B13+1 -> 3 | I18: =IF(H18="zw./ nie dotyczy",0,ROUND(G18*H18,2)) -> 0 | K18: =ROUND(G18*J18,2) -> 0 | L18: =ROUND(I18*J18,2) -> 0 | M18: =K18+L18 -> 0 | O18: =M18 -> 0 | Q18: =M18-O18 -> 0 | S18: kwalifikowane netto | X18: =SUM(T18:W18) -> 0 | Z18: =IF(O18=(X18+X19),"OK","ŹLE") -> OK
S19: kwalifikowane VAT | X19: =SUM(T19:W19) -> 0
S20: niekwalifikowane netto | X20: =SUM(T20:W20) -> 0 | Z20: =IF(Q18=(X20+X21),"OK","ŹLE") -> OK
S21: niekwalifikowane VAT | X21: =SUM(T21:W21) -> 0
S22: SUMA | T22: =SUM(T18:T21) -> 0 | U22: =SUM(U18:U21) -> 0 | V22: =SUM(V18:V21) -> 0 | W22: =SUM(W18:W21) -> 0 | X22: =SUM(X18:X21) -> 0
B23: =B18+1 -> 4 | I23: =IF(H23="zw./ nie dotyczy",0,ROUND(G23*H23,2)) -> 0 | K23: =ROUND(G23*J23,2) -> 0 | L23: =ROUND(I23*J23,2) -> 0 | M23: =K23+L23 -> 0 | O23: =M23 -> 0 | Q23: =M23-O23 -> 0 | S23: kwalifikowane netto | X23: =SUM(T23:W23) -> 0 | Z23: =IF(O23=(X23+X24),"OK","ŹLE") -> OK
S24: kwalifikowane VAT | X24: =SUM(T24:W24) -> 0
S25: niekwalifikowane netto | X25: =SUM(T25:W25) -> 0 | Z25: =IF(Q23=(X25+X26),"OK","ŹLE") -> OK
S26: niekwalifikowane VAT | X26: =SUM(T26:W26) -> 0
S27: SUMA | T27: =SUM(T23:T26) -> 0 | U27: =SUM(U23:U26) -> 0 | V27: =SUM(V23:V26) -> 0 | W27: =SUM(W23:W26) -> 0 | X27: =SUM(X23:X26) -> 0
B28: =B23+1 -> 5 | I28: =IF(H28="zw./ nie dotyczy",0,ROUND(G28*H28,2)) -> 0 | K28: =ROUND(G28*J28,2) -> 0 | L28: =ROUND(I28*J28,2) -> 0 | M28: =K28+L28 -> 0 | O28: =M28 -> 0 | Q28: =M28-O28 -> 0 | S28: kwalifikowane netto | X28: =SUM(T28:W28) -> 0 | Z28: =IF(O28=(X28+X29),"OK","ŹLE") -> OK
S29: kwalifikowane VAT | X29: =SUM(T29:W29) -> 0
S30: niekwalifikowane netto | X30: =SUM(T30:W30) -> 0 | Z30: =IF(Q28=(X30+X31),"OK","ŹLE") -> OK
S31: niekwalifikowane VAT | X31: =SUM(T31:W31) -> 0
S32: SUMA | T32: =SUM(T28:T31) -> 0 | U32: =SUM(U28:U31) -> 0 | V32: =SUM(V28:V31) -> 0 | W32: =SUM(W28:W31) -> 0 | X32: =SUM(X28:X31) -> 0
B33: =B28+1 -> 6 | I33: =IF(H33="zw./ nie dotyczy",0,ROUND(G33*H33,2)) -> 0 | K33: =ROUND(G33*J33,2) -> 0 | L33: =ROUND(I33*J33,2) -> 0 | M33: =K33+L33 -> 0 | O33: =M33 -> 0 | Q33: =M33-O33 -> 0 | S33: kwalifikowane netto | X33: =SUM(T33:W33) -> 0 | Z33: =IF(O33=(X33+X34),"OK","ŹLE") -> OK
S34: kwalifikowane VAT | X34: =SUM(T34:W34) -> 0
S35: niekwalifikowane netto | X35: =SUM(T35:W35) -> 0 | Z35: =IF(Q33=(X35+X36),"OK","ŹLE") -> OK
S36: niekwalifikowane VAT | X36: =SUM(T36:W36) -> 0
S37: SUMA | T37: =SUM(T33:T36) -> 0 | U37: =SUM(U33:U36) -> 0 | V37: =SUM(V33:V36) -> 0 | W37: =SUM(W33:W36) -> 0 | X37: =SUM(X33:X36) -> 0
B38: =B33+1 -> 7 | I38: =IF(H38="zw./ nie dotyczy",0,ROUND(G38*H38,2)) -> 0 | K38: =ROUND(G38*J38,2) -> 0 | L38: =ROUND(I38*J38,2) -> 0 | M38: =K38+L38 -> 0 | O38: =M38 -> 0 | Q38: =M38-O38 -> 0 | S38: kwalifikowane netto | X38: =SUM(T38:W38) -> 0 | Z38: =IF(O38=(X38+X39),"OK","ŹLE") -> OK
S39: kwalifikowane VAT | X39: =SUM(T39:W39) -> 0
S40: niekwalifikowane netto | X40: =SUM(T40:W40) -> 0 | Z40: =IF(Q38=(X40+X41),"OK","ŹLE") -> OK
S41: niekwalifikowane VAT | X41: =SUM(T41:W41) -> 0
S42: SUMA | T42: =SUM(T38:T41) -> 0 | U42: =SUM(U38:U41) -> 0 | V42: =SUM(V38:V41) -> 0 | W42: =SUM(W38:W41) -> 0 | X42: =SUM(X38:X41) -> 0
...

Sheet 2.a Struktura_kosztów
B2: Struktura kosztów kwalifikowanych
B4: Koszt | C4: Wartość | D4: % budżetu
B5: Środki trwałe i wart. niematerialne i prawne oraz rzeczowe aktywa niestanowiące śr. trwałych - Oprogramowanie | C5: ='2. Nakłady'!F170 -> 0 | D5: =100%-SUM(D6:D14) -> #DIV/0!
B6: Środki trwałe i wart. niematerialne i prawne oraz rzeczowe aktywa niestanowiące śr. trwałych - Sprzęt informatyczny | C6: ='2. Nakłady'!F171 -> 0 | D6: =C6/$C$15 -> #DIV/0!
B7: Usługi zewnętrzne - Przygotowanie projektu | C7: ='2. Nakłady'!F172 -> 0 | D7: =C7/$C$15 -> #DIV/0!
B8: Usługi zewnętrzne - Usługi informatyczne | C8: ='2. Nakłady'!F173 -> 0 | D8: =C8/$C$15 -> #DIV/0!
B9: Usługi zewnętrzne - Usługi wspomagające realizację projektu | C9: ='2. Nakłady'!F174 -> 0 | D9: =C9/$C$15 -> #DIV/0!
B10: Roboty budowlane | C10: ='2. Nakłady'!F175 -> 0 | D10: =C10/$C$15 -> #DIV/0!
B11: Wynagrodzenia pracowników wykonujących merytoryczne zadania bezpośrednio związane z głównymi celami i produktami projektu | C11: ='2. Nakłady'!F176 -> 0 | D11: =C11/$C$15 -> #DIV/0!
B12: Szkolenia | C12: ='2. Nakłady'!F177 -> 0 | D12: =C12/$C$15 -> #DIV/0!
B13: Informacja i promocja | C13: ='2. Nakłady'!F178 -> 0 | D13: =C13/$C$15 -> #DIV/0!
B14: Koszty pośrednie | C14: ='2. Nakłady'!F179 -> 0 | D14: =C14/$C$15 -> #DIV/0!
B15: RAZEM | C15: =SUM(C5:C14) -> 0 | D15: =SUM(D5:D14) -> #DIV/0!

Sheet 3. Przychody
B3: ='1. Założenia'!E21 -> Rok 1 (bazowy) | C3: ='1. Założenia'!F21 -> Rok 2 | D3: ='1. Założenia'!G21 -> Rok 3 | E3: ='1. Założenia'!H21 -> Rok 4 | F3: ='1. Założenia'!I21 -> Rok 5 | G3: ='1. Założenia'!J21 -> Rok 6 | H3: ='1. Założenia'!K21 -> Rok 7 | I3: ='1. Założenia'!L21 -> Rok 8 | ... K3: ='1. Założenia'!N21 -> Rok 10
B4: ='1. Założenia'!E22 -> 0 | C4: ='1. Założenia'!F22 -> 1 | D4: ='1. Założenia'!G22 -> 2 | E4: ='1. Założenia'!H22 -> 3 | F4: ='1. Założenia'!I22 -> 4 | G4: ='1. Założenia'!J22 -> 5 | H4: ='1. Założenia'!K22 -> 6 | I4: ='1. Założenia'!L22 -> 7 | ... K4: ='1. Założenia'!N22 -> 9
A5: I. Wnioskowany projekt (III-II) (razem)
A6: 1. Przychody… | B6: =B14-B10 -> 0 | C6: =C14-C10 -> 0 | D6: =D14-D10 -> 0 | E6: =E14-E10 -> 0 | F6: =F14-F10 -> 0 | G6: =G14-G10 -> 0 | H6: =H14-H10 -> 0 | I6: =I14-I10 -> 0 | ... K6: =K14-K10 -> 0
A7: RAZEM: | B7: =SUM(B6:B6) -> 0 | C7: =SUM(C6:C6) -> 0 | D7: =SUM(D6:D6) -> 0 | E7: =SUM(E6:E6) -> 0 | F7: =SUM(F6:F6) -> 0 | G7: =SUM(G6:G6) -> 0 | H7: =SUM(H6:H6) -> 0 | I7: =SUM(I6:I6) -> 0 | ... K7: =SUM(K6:K6) -> 0
A9: II. Całkowite przychody Wnioskodawcy bez projektu
A10: 1. Przychody…
A11: RAZEM: | B11: =SUM(B10:B10) -> 0 | C11: =SUM(C10:C10) -> 0 | D11: =SUM(D10:D10) -> 0 | E11: =SUM(E10:E10) -> 0 | F11: =SUM(F10:F10) -> 0 | G11: =SUM(G10:G10) -> 0 | H11: =SUM(H10:H10) -> 0 | I11: =SUM(I10:I10) -> 0 | ... K11: =SUM(K10:K10) -> 0
A13: III. Całkowite przychody Wnioskodawcy z projektem
A14: 1. Przychody…
A15: RAZEM: | B15: =SUM(B14:B14) -> 0 | C15: =SUM(C14:C14) -> 0 | D15: =SUM(D14:D14) -> 0 | E15: =SUM(E14:E14) -> 0 | F15: =SUM(F14:F14) -> 0 | G15: =SUM(G14:G14) -> 0 | H15: =SUM(H14:H14) -> 0 | I15: =SUM(I14:I14) -> 0 | ... K15: =SUM(K14:K14) -> 0

Sheet 4. Koszty operacyjne
B3: ='1. Założenia'!E21 -> Rok 1 (bazowy) | C3: ='1. Założenia'!F21 -> Rok 2 | D3: ='1. Założenia'!G21 -> Rok 3 | E3: ='1. Założenia'!H21 -> Rok 4 | F3: ='1. Założenia'!I21 -> Rok 5 | G3: ='1. Założenia'!J21 -> Rok 6 | H3: ='1. Założenia'!K21 -> Rok 7 | I3: ='1. Założenia'!L21 -> Rok 8 | ... K3: ='1. Założenia'!N21 -> Rok 10
B4: ='1. Założenia'!E22 -> 0 | C4: ='1. Założenia'!F22 -> 1 | D4: ='1. Założenia'!G22 -> 2 | E4: ='1. Założenia'!H22 -> 3 | F4: ='1. Założenia'!I22 -> 4 | G4: ='1. Założenia'!J22 -> 5 | H4: ='1. Założenia'!K22 -> 6 | I4: ='1. Założenia'!L22 -> 7 | ... K4: ='1. Założenia'!N22 -> 9
A5: I. Wnioskowany projekt (III-II) (razem)
A6: 1. Koszty operacyjne bez amortyzacji - faza eksploatacji | B6: =B16-B11 -> 0 | C6: =C16-C11 -> 0 | D6: =D16-D11 -> 0 | E6: =E16-E11 -> 0 | F6: =F16-F11 -> 0 | G6: =G16-G11 -> 0 | H6: =H16-H11 -> 0 | I6: =I16-I11 -> 0 | ... K6: =K16-K11 -> 0
A7: 2. Nakłady odtworzeniowe | B7: =B17-B12 -> 0 | C7: =C17-C12 -> 0 | D7: =D17-D12 -> 0 | E7: =E17-E12 -> 0 | F7: =F17-F12 -> 0 | G7: =G17-G12 -> 0 | H7: =H17-H12 -> 0 | I7: =I17-I12 -> 0 | ... K7: =K17-K12 -> 0
A8: RAZEM: | B8: =SUM(B6:B7) -> 0 | C8: =SUM(C6:C7) -> 0 | D8: =SUM(D6:D7) -> 0 | E8: =SUM(E6:E7) -> 0 | F8: =SUM(F6:F7) -> 0 | G8: =SUM(G6:G7) -> 0 | H8: =SUM(H6:H7) -> 0 | I8: =SUM(I6:I7) -> 0 | ... K8: =SUM(K6:K7) -> 0
A10: II. Całkowite koszty Wnioskodawcy bez projektu
A11: 1. Koszty operacyjne bez amortyzacji - faza eksploatacji
A12: 2. Nakłady odtworzeniowe
A13: RAZEM: | B13: =SUM(B11:B12) -> 0 | C13: =SUM(C11:C12) -> 0 | D13: =SUM(D11:D12) -> 0 | E13: =SUM(E11:E12) -> 0 | F13: =SUM(F11:F12) -> 0 | G13: =SUM(G11:G12) -> 0 | H13: =SUM(H11:H12) -> 0 | I13: =SUM(I11:I12) -> 0 | ... K13: =SUM(K11:K12) -> 0
A15: III. Całkowite koszty Wnioskodawcy z projektem
A16: 1. Koszty operacyjne bez amortyzacji - faza eksploatacji
A17: 2. Nakłady odtworzeniowe
A18: RAZEM: | B18: =SUM(B16:B17) -> 0 | C18: =SUM(C16:C17) -> 0 | D18: =SUM(D16:D17) -> 0 | E18: =SUM(E16:E17) -> 0 | F18: =SUM(F16:F17) -> 0 | G18: =SUM(G16:G17) -> 0 | H18: =SUM(H16:H17) -> 0 | I18: =SUM(I16:I17) -> 0 | ... K18: =SUM(K16:K17) -> 0

Sheet 5. Przepływy
B3: ='1. Założenia'!E21 -> Rok 1 (bazowy) | C3: ='1. Założenia'!F21 -> Rok 2 | D3: ='1. Założenia'!G21 -> Rok 3 | E3: ='1. Założenia'!H21 -> Rok 4 | F3: ='1. Założenia'!I21 -> Rok 5 | G3: ='1. Założenia'!J21 -> Rok 6 | H3: ='1. Założenia'!K21 -> Rok 7 | I3: ='1. Założenia'!L21 -> Rok 8 | ... K3: ='1. Założenia'!N21 -> Rok 10
B4: ='1. Założenia'!E22 -> 0 | C4: ='1. Założenia'!F22 -> 1 | D4: ='1. Założenia'!G22 -> 2 | E4: ='1. Założenia'!H22 -> 3 | F4: ='1. Założenia'!I22 -> 4 | G4: ='1. Założenia'!J22 -> 5 | H4: ='1. Założenia'!K22 -> 6 | I4: ='1. Założenia'!L22 -> 7 | ... K4: ='1. Założenia'!N22 -> 9
A5: I. Przepływy projektu (III-II) (razem)
A6: Suma przychodów | B6: ='3. Przychody'!B7 -> 0 | C6: ='3. Przychody'!C7 -> 0 | D6: ='3. Przychody'!D7 -> 0 | E6: ='3. Przychody'!E7 -> 0 | F6: ='3. Przychody'!F7 -> 0 | G6: ='3. Przychody'!G7 -> 0 | H6: ='3. Przychody'!H7 -> 0 | I6: ='3. Przychody'!I7 -> 0 | ... K6: ='3. Przychody'!K7 -> 0
A7: Suma nakładów | B7: =IF('1. Założenia'!$D$10="TAK",'2. Nakłady'!T160+'2. Nakłady'!T161,'2. Nakłady'!T160) -> 0 | C7: =IF('1. Założenia'!$D$10="TAK",'2. Nakłady'!U160+'2. Nakłady'!U161,'2. Nakłady'!U160) -> 0 | D7: =IF('1. Założenia'!$D$10="TAK",'2. Nakłady'!V160+'2. Nakłady'!V161,'2. Nakłady'!V160) -> 0 | E7: =IF('1. Założenia'!$D$10="TAK",'2. Nakłady'!W160+'2. Nakłady'!W161,'2. Nakłady'!W160) -> 0 | F7: 0 | G7: 0 | H7: 0 | I7: 0 | J7: 0 | K7: 0
A8: Suma kosztów | B8: ='4. Koszty operacyjne'!B8 -> 0 | C8: ='4. Koszty operacyjne'!C8 -> 0 | D8: ='4. Koszty operacyjne'!D8 -> 0 | E8: ='4. Koszty operacyjne'!E8 -> 0 | F8: ='4. Koszty operacyjne'!F8 -> 0 | G8: ='4. Koszty operacyjne'!G8 -> 0 | H8: ='4. Koszty operacyjne'!H8 -> 0 | I8: ='4. Koszty operacyjne'!I8 -> 0 | ... K8: ='4. Koszty operacyjne'!K8 -> 0
A9: RAZEM: | B9: =B6-B7-B8 -> 0 | C9: =C6-C7-C8 -> 0 | D9: =D6-D7-D8 -> 0 | E9: =E6-E7-E8 -> 0 | F9: =F6-F7-F8 -> 0 | G9: =G6-G7-G8 -> 0 | H9: =H6-H7-H8 -> 0 | I9: =I6-I7-I8 -> 0 | ... K9: =K6-K7-K8 -> 0
A11: II. Przepływy Wnioskodawcy bez projektu
A12: Suma przychodów | B12: ='3. Przychody'!B11 -> 0 | C12: ='3. Przychody'!C11 -> 0 | D12: ='3. Przychody'!D11 -> 0 | E12: ='3. Przychody'!E11 -> 0 | F12: ='3. Przychody'!F11 -> 0 | G12: ='3. Przychody'!G11 -> 0 | H12: ='3. Przychody'!H11 -> 0 | I12: ='3. Przychody'!I11 -> 0 | ... K12: ='3. Przychody'!K11 -> 0
A13: Suma nakładów | B13: 0 | C13: 0 | D13: 0 | E13: 0 | F13: 0 | G13: 0 | H13: 0 | I13: 0 | J13: 0 | K13: 0
A14: Suma kosztów | B14: ='4. Koszty operacyjne'!B13 -> 0 | C14: ='4. Koszty operacyjne'!C13 -> 0 | D14: ='4. Koszty operacyjne'!D13 -> 0 | E14: ='4. Koszty operacyjne'!E13 -> 0 | F14: ='4. Koszty operacyjne'!F13 -> 0 | G14: ='4. Koszty operacyjne'!G13 -> 0 | H14: ='4. Koszty operacyjne'!H13 -> 0 | I14: ='4. Koszty operacyjne'!I13 -> 0 | ... K14: ='4. Koszty operacyjne'!K13 -> 0
A15: RAZEM: | B15: =B12-B13-B14 -> 0 | C15: =C12-C13-C14 -> 0 | D15: =D12-D13-D14 -> 0 | E15: =E12-E13-E14 -> 0 | F15: =F12-F13-F14 -> 0 | G15: =G12-G13-G14 -> 0 | H15: =H12-H13-H14 -> 0 | I15: =I12-I13-I14 -> 0 | ... K15: =K12-K13-K14 -> 0
A17: III. Przepływy Wnioskodawcy z projektem
A18: Suma przychodów | B18: ='3. Przychody'!B15 -> 0 | C18: ='3. Przychody'!C15 -> 0 | D18: ='3. Przychody'!D15 -> 0 | E18: ='3. Przychody'!E15 -> 0 | F18: ='3. Przychody'!F15 -> 0 | G18: ='3. Przychody'!G15 -> 0 | H18: ='3. Przychody'!H15 -> 0 | I18: ='3. Przychody'!I15 -> 0 | ... K18: ='3. Przychody'!K15 -> 0
A19: Suma nakładów | B19: =IF('1. Założenia'!$D$10="TAK",'2. Nakłady'!T160+'2. Nakłady'!T161,'2. Nakłady'!T160) -> 0 | C19: =IF('1. Założenia'!$D$10="TAK",'2. Nakłady'!U160+'2. Nakłady'!U161,'2. Nakłady'!U160) -> 0 | D19: =IF('1. Założenia'!$D$10="TAK",'2. Nakłady'!V160+'2. Nakłady'!V161,'2. Nakłady'!V160) -> 0 | E19: =IF('1. Założenia'!$D$10="TAK",'2. Nakłady'!W160+'2. Nakłady'!W161,'2. Nakłady'!W160) -> 0 | F19: 0 | G19: 0 | H19: 0 | I19: 0 | J19: 0 | K19: 0
A20: Suma kosztów | B20: ='4. Koszty operacyjne'!B18 -> 0 | C20: ='4. Koszty operacyjne'!C18 -> 0 | D20: ='4. Koszty operacyjne'!D18 -> 0 | E20: ='4. Koszty operacyjne'!E18 -> 0 | F20: ='4. Koszty operacyjne'!F18 -> 0 | G20: ='4. Koszty operacyjne'!G18 -> 0 | H20: ='4. Koszty operacyjne'!H18 -> 0 | I20: ='4. Koszty operacyjne'!I18 -> 0 | ... K20: ='4. Koszty operacyjne'!K18 -> 0
A21: RAZEM: | B21: =B18-B19-B20 -> 0 | C21: =C18-C19-C20 -> 0 | D21: =D18-D19-D20 -> 0 | E21: =E18-E19-E20 -> 0 | F21: =F18-F19-F20 -> 0 | G21: =G18-G19-G20 -> 0 | H21: =H18-H19-H20 -> 0 | I21: =I18-I19-I20 -> 0 | ... K21: =K18-K19-K20 -> 0
A24: Trwałość finansowa
A25: Środki niezbędne na zapewnienie trwałości finansowej projektu | B25: =IF(B9<0,(-1*B9),0) -> 0 | C25: =IF(C9<0,(-1*C9),0) -> 0 | D25: =IF(D9<0,(-1*D9),0) -> 0 | E25: =IF(E9<0,(-1*E9),0) -> 0 | F25: =IF(F9<0,(-1*F9),0) -> 0 | G25: =IF(G9<0,(-1*G9),0) -> 0 | H25: =IF(H9<0,(-1*H9),0) -> 0 | I25: =IF(I9<0,(-1*I9),0) -> 0 | ... K25: =IF(K9<0,(-1*K9),0) -> 0
A26: Środki niezbędne na zapewnienie trwałości finansowej Wnioskodacy z projektem | B26: =IF(B21<0,(-1*B21),0) -> 0 | C26: =IF(C21<0,(-1*C21),0) -> 0 | D26: =IF(D21<0,(-1*D21),0) -> 0 | E26: =IF(E21<0,(-1*E21),0) -> 0 | F26: =IF(F21<0,(-1*F21),0) -> 0 | G26: =IF(G21<0,(-1*G21),0) -> 0 | H26: =IF(H21<0,(-1*H21),0) -> 0 | I26: =IF(I21<0,(-1*I21),0) -> 0 | ... K26: =IF(K21<0,(-1*K21),0) -> 0
A27: Środki, jakie zabezpiecza Wnioskodawca | B27: =MAX(B25,B26) -> 0 | C27: =MAX(C25,C26) -> 0 | D27: =MAX(D25,D26) -> 0 | E27: =MAX(E25,E26) -> 0 | F27: =MAX(F25,F26) -> 0 | G27: =MAX(G25,G26) -> 0 | H27: =MAX(H25,H26) -> 0 | I27: =MAX(I25,I26) -> 0 | ... K27: =MAX(K25,K26) -> 0
A28: Przepływy finansowe projektu po uwzględnieniu środków zapewnionych przez Wnioskodawcę | B28: =B9+B25 -> 0 | C28: =C9+C25 -> 0 | D28: =D9+D25 -> 0 | E28: =E9+E25 -> 0 | F28: =F9+F25 -> 0 | G28: =G9+G25 -> 0 | H28: =H9+H25 -> 0 | I28: =I9+I25 -> 0 | ... K28: =K9+K25 -> 0
A29: Przepływy finansowe Wnioskodawcy z projektem po zapewnieniu środków przez Wnioskodawcę | B29: =B21+B26 -> 0 | C29: =C21+C26 -> 0 | D29: =D21+D26 -> 0 | E29: =E21+E26 -> 0 | F29: =F21+F26 -> 0 | G29: =G21+G26 -> 0 | H29: =H21+H26 -> 0 | I29: =I21+I26 -> 0 | ... K29: =K21+K26 -> 0

Sheet 6. Wsk. rentowności; Luka
C2: Wskaźniki rentowności (bez uwzględnienia dotacji)
B3: Wartość zdyskontowana | C3: ='1. Założenia'!E21 -> Rok 1 (bazowy) | D3: ='1. Założenia'!F21 -> Rok 2 | E3: ='1. Założenia'!G21 -> Rok 3 | F3: ='1. Założenia'!H21 -> Rok 4 | G3: ='1. Założenia'!I21 -> Rok 5 | H3: ='1. Założenia'!J21 -> Rok 6 | I3: ='1. Założenia'!K21 -> Rok 7 | J3: ='1. Założenia'!L21 -> Rok 8 | ... L3: ='1. Założenia'!N21 -> Rok 10
C4: ='1. Założenia'!E22 -> 0 | D4: ='1. Założenia'!F22 -> 1 | E4: ='1. Założenia'!G22 -> 2 | F4: ='1. Założenia'!H22 -> 3 | G4: ='1. Założenia'!I22 -> 4 | H4: ='1. Założenia'!J22 -> 5 | I4: ='1. Założenia'!K22 -> 6 | J4: ='1. Założenia'!L22 -> 7 | ... L4: ='1. Założenia'!N22 -> 9
A5: Wpływy ogółem | B5: =C5+NPV($B$12,D5:L5) -> 0 | C5: =C6+C7 -> 0 | D5: =D6+D7 -> 0 | E5: =E6+E7 -> 0 | F5: =F6+F7 -> 0 | G5: =G6+G7 -> 0 | H5: =H6+H7 -> 0 | I5: =I6+I7 -> 0 | J5: =J6+J7 -> 0 | ... L5: =L6+L7 -> 0
A6: Przychody ze sprzedaży | B6: =C6+NPV($B$12,D6:L6) -> 0 | C6: ='3. Przychody'!B7 -> 0 | D6: ='3. Przychody'!C7 -> 0 | E6: ='3. Przychody'!D7 -> 0 | F6: ='3. Przychody'!E7 -> 0 | G6: ='3. Przychody'!F7 -> 0 | H6: ='3. Przychody'!G7 -> 0 | I6: ='3. Przychody'!H7 -> 0 | J6: ='3. Przychody'!I7 -> 0 | ... L6: ='3. Przychody'!K7 -> 0
A7: Wartość rezydualna | B7: =C7+NPV($B$12,D7:L7) -> 0
A8: Wypływy ogółem | B8: =C8+NPV($B$12,D8:L8) -> 0 | C8: =SUM(C9:C10) -> 0 | D8: =SUM(D9:D10) -> 0 | E8: =SUM(E9:E10) -> 0 | F8: =SUM(F9:F10) -> 0 | G8: =SUM(G9:G10) -> 0 | H8: =SUM(H9:H10) -> 0 | I8: =SUM(I9:I10) -> 0 | J8: =SUM(J9:J10) -> 0 | ... L8: =SUM(L9:L10) -> 0
A9: Pieniężne koszty operacyjne (wraz z nakładami odtworzeniowymi) | B9: =C9+NPV($B$12,D9:L9) -> 0 | C9: ='4. Koszty operacyjne'!B8 -> 0 | D9: ='4. Koszty operacyjne'!C8 -> 0 | E9: ='4. Koszty operacyjne'!D8 -> 0 | F9: ='4. Koszty operacyjne'!E8 -> 0 | G9: ='4. Koszty operacyjne'!F8 -> 0 | H9: ='4. Koszty operacyjne'!G8 -> 0 | I9: ='4. Koszty operacyjne'!H8 -> 0 | J9: ='4. Koszty operacyjne'!I8 -> 0 | ... L9: ='4. Koszty operacyjne'!K8 -> 0
A10: Nakłady inwestycyjne ogółem | B10: =C10+NPV($B$12,D10:L10) -> 0 | C10: ='5. Przepływy'!B7 -> 0 | D10: ='5. Przepływy'!C7 -> 0 | E10: ='5. Przepływy'!D7 -> 0 | F10: ='5. Przepływy'!E7 -> 0 | G10: ='5. Przepływy'!F7 -> 0 | H10: ='5. Przepływy'!G7 -> 0 | I10: ='5. Przepływy'!H7 -> 0 | J10: ='5. Przepływy'!I7 -> 0 | ... L10: ='5. Przepływy'!K7 -> 0
A11: Przepływy pieniężne netto | B11: =C11+NPV($B$12,D11:L11) -> 0 | C11: =C5-C8 -> 0 | D11: =D5-D8 -> 0 | E11: =E5-E8 -> 0 | F11: =F5-F8 -> 0 | G11: =G5-G8 -> 0 | H11: =H5-H8 -> 0 | I11: =I5-I8 -> 0 | J11: =J5-J8 -> 0 | ... L11: =L5-L8 -> 0
A12: stopa dyskontowa | B12: ='1. Założenia'!D7 -> 0.04
A13: Finansowa wewnętrzna stopa zwrotu z inwestycji (FRR/C)
A14: Finansowa zaktualizowana wartość netto inwestycji (FNPV/C) | B14: =B11 -> 0
A15: Finansowa wewnętrzna stopa zwrotu z inwestycji (FRR/C) | B15: =IFERROR(IRR(C11:L11),"FRR/C nie istnieje") -> FRR/C nie istnieje
A17: Poziom dofinansowania k. kwalifikowanych dla naboru (dofinansowanie EFRR) | B17: ='1. Założenia'!D11 -> 0.8463 | C17: =ROUNDDOWN(C26*B17,2) -> 0
A19: Obliczenia luki w finansowaniu | E19: Montaż finansowy
A20: Czy w projekcie wystęuje konieczność obliczania luki w finansowaniu - czy projekt jest projektem generującym dochód | C20: =IF(B6>B9,"TAK","NIE") -> NIE | E20: Nazwa źródła finansowania wydatków | G20: Wydatki ogółem | H20: Wydatki kwalifikowane
E21: Środki wspólnotowe | H21: =C29 -> --
A22: Luka w finansowaniu | E22: Krajowe środki publiczne, w tym: | G22: =SUM(G23:G26) -> 0 | H22: =SUM(H23:H26) -> 0
A23: Zdyskontowane nakłady inwestycyjne na realizację projektu (DIC) | C23: =B10 -> 0 | E23: - budżet państwa
A24: Suma zdyskontowanych dochodów powiększonych o wartość rezydualną (DNR) | C24: =IF((B6-B9)<=0,0,(B6+B7-B9)) -> 0 | E24: - budżet jednostek samorządu terytorialnego
A25: Wskaźnik luki (R) | C25: =IFERROR(ROUNDDOWN((C23-C24)/C23,2),"--") -> -- | E25: - inne krajowe środki publiczne:
A26: Całkowite koszty kwalifikowane niezdyskontowane (EC) | C26: ='2. Nakłady'!O162 -> 0
A27: Koszty kwalifikowane skorygowane o wskaźnik luki w finansowaniu (ECR) | C27: =IFERROR(ROUNDDOWN(C26*C25,2),"--") -> -- | E27: Prywatne
A28: Makysmalne współfinansowanie osi priorytetowej (Max CRpa) | C28: 0.8463 | E28: SUMA | G28: =SUM(G21,G22,G27) -> 0 | H28: =SUM(H21,H22,H27) -> 0
A29: Maksymalna możliwa dotacja UE (wynikająca z luki) | C29: =IFERROR(ROUNDDOWN(C27*C28,2),"--") -> -- | E29: - w tym EBI

Sheet 7. Analiza ekonomiczna
B4: L.p. | C4: Nazwa korzyści | D4: Skwantyfikowana wartość korzyści (skutki jakościowe i ilościowe) | E4: Opis i uzasadnienie
B5: 1
B6: =B5+1 -> 2
B7: =B6+1 -> 3
B8: =B7+1 -> 4
B9: =B8+1 -> 5
B10: =B9+1 -> 6
B11: =B10+1 -> 7
B12: =B11+1 -> 8
B13: =B12+1 -> 9
B14: =B13+1 -> 10
B15: =B14+1 -> 11
B16: =B15+1 -> 12
B17: =B16+1 -> 13
... B20: =B19+1 -> 16

Sheet Listy wyboru
A2: Wybór kosztów pośrednich | C2: rok bazowy | F2: kategoria i podkategoria | G2: kwalifikowalność VAT | H2: Metoda analizy | I2: Czy cross-financing
A3: 1.) RYCZAŁT - 15% k. personelu bezp. | C3: 2022 | F3: Środki trwałe i wart. niematerialne i prawne oraz rzeczowe aktywa niestanowiące śr. trwałych - Oprogramowanie | G3: TAK | H3: standardowa | I3: TAK
A4: 2.) Faktyczne rozliczenie kosztów ponoszonych | C4: 2023 | F4: Środki trwałe i wart. niematerialne i prawne oraz rzeczowe aktywa niestanowiące śr. trwałych - Sprzęt informatyczny | G4: NIE | H4: złożona | I4: NIE
F5: Usługi zewnętrzne - Przygotowanie projektu
F6: Usługi zewnętrzne - Usługi informatyczne
F7: Usługi zewnętrzne - Usługi wspomagające realizację projektu
F8: Roboty budowlane
F9: Wynagrodzenia pracowników wykonujących merytoryczne zadania bezpośrednio związane z głównymi celami i produktami projektu
F10: Szkolenia
F11: Informacja i promocja
F12: Koszty pośrednie
F13: Inne wydatki - niekwalifikowane
